BEGIN:VCALENDAR
VERSION:2.0
PRODID:-//IncubatorWorks - ECPv6.15.18//NONSGML v1.0//EN
CALSCALE:GREGORIAN
METHOD:PUBLISH
X-WR-CALNAME:IncubatorWorks
X-ORIGINAL-URL:https://incubatorworks.org
X-WR-CALDESC:Events for IncubatorWorks
REFRESH-INTERVAL;VALUE=DURATION:PT1H
X-Robots-Tag:noindex
X-PUBLISHED-TTL:PT1H
BEGIN:VTIMEZONE
TZID:America/New_York
BEGIN:DAYLIGHT
TZOFFSETFROM:-0500
TZOFFSETTO:-0400
TZNAME:EDT
DTSTART:20180311T070000
END:DAYLIGHT
BEGIN:STANDARD
TZOFFSETFROM:-0400
TZOFFSETTO:-0500
TZNAME:EST
DTSTART:20181104T060000
END:STANDARD
BEGIN:DAYLIGHT
TZOFFSETFROM:-0500
TZOFFSETTO:-0400
TZNAME:EDT
DTSTART:20190310T070000
END:DAYLIGHT
BEGIN:STANDARD
TZOFFSETFROM:-0400
TZOFFSETTO:-0500
TZNAME:EST
DTSTART:20191103T060000
END:STANDARD
BEGIN:DAYLIGHT
TZOFFSETFROM:-0500
TZOFFSETTO:-0400
TZNAME:EDT
DTSTART:20200308T070000
END:DAYLIGHT
BEGIN:STANDARD
TZOFFSETFROM:-0400
TZOFFSETTO:-0500
TZNAME:EST
DTSTART:20201101T060000
END:STANDARD
END:VTIMEZONE
BEGIN:VEVENT
DTSTART;TZID=America/New_York:20191119T183000
DTEND;TZID=America/New_York:20191119T203000
DTSTAMP:20260420T133349
CREATED:20250728T181107Z
LAST-MODIFIED:20250728T181108Z
UID:6310-1574188200-1574195400@incubatorworks.org
SUMMARY:Co.Starters Graduation Cohort #2
DESCRIPTION:
URL:https://incubatorworks.org/event/co-starters-graduation-cohort-2/
END:VEVENT
BEGIN:VEVENT
DTSTART;TZID=America/New_York:20190618T183000
DTEND;TZID=America/New_York:20190618T203000
DTSTAMP:20260420T133349
CREATED:20250728T181146Z
LAST-MODIFIED:20250728T181147Z
UID:6311-1560882600-1560889800@incubatorworks.org
SUMMARY:Co.Starters Graduation Cohort #1
DESCRIPTION:
URL:https://incubatorworks.org/event/co-starters-graduation-cohort-1/
END:VEVENT
BEGIN:VEVENT
DTSTART;TZID=America/New_York:20190523T060000
DTEND;TZID=America/New_York:20190523T200000
DTSTAMP:20260420T133349
CREATED:20190508T141035Z
LAST-MODIFIED:20190514T170714Z
UID:725-1558591200-1558641600@incubatorworks.org
SUMMARY:Social Media Marketing – Elmira Entrepreneurs
DESCRIPTION:It’s time to market your business like it’s 2019! Popular Travel Blogger\, Carol Cain of Brave World Media will help you navigate Facebook\, Twitter\, and Instagram as well as how to pull and understand the metrics associated with each.
URL:https://incubatorworks.org/event/social-media-marketing-elmira-entrepreneurs/
END:VEVENT
BEGIN:VEVENT
DTSTART;VALUE=DATE:20190423
DTEND;VALUE=DATE:20190424
DTSTAMP:20260420T133349
CREATED:20181227T190835Z
LAST-MODIFIED:20190318T132610Z
UID:176-1555977600-1556063940@incubatorworks.org
SUMMARY:First Co.Starters Cohort
DESCRIPTION:
URL:https://incubatorworks.org/event/elmira-entrepreneurs-co-starters/
ATTACH;FMTTYPE=image/png:https://incubatorworks.org/wp-content/uploads/2018/12/Co-Starters.png
END:VEVENT
BEGIN:VEVENT
DTSTART;TZID=America/New_York:20190320T180000
DTEND;TZID=America/New_York:20190320T200000
DTSTAMP:20260420T133349
CREATED:20181227T190856Z
LAST-MODIFIED:20190318T134530Z
UID:178-1553104800-1553112000@incubatorworks.org
SUMMARY:Mentor Mixer (Speed Dating)
DESCRIPTION:Ready to put some Spring into your Entrepreneurial Step?\n\n\n\nStart this Spring by strengthening your network.  \n\n\n\nReady to grow your startup? Come hear about Co.Starters in our Community!  \n\n\n\n“If you want to go fast\, go alone. If you want to go far\, go with others.” – African Proverb  \n\n\n\n\n\n\n\n\n\n\n\nWant to Sponsor thi Event?To learn more about sponsorship opportunities or how your business can get involved\, please contact xxx@incubatorworks.com
URL:https://incubatorworks.org/event/mentor-mixer-speed-dating/
LOCATION:The Green Derby\, 113 West 2nd Street\, Elmira\, New York\, 14901\, United States
ATTACH;FMTTYPE=image/png:https://incubatorworks.org/wp-content/uploads/2018/12/March_Mixer_Version_1.4.png
END:VEVENT
BEGIN:VEVENT
DTSTART;VALUE=DATE:20190216
DTEND;VALUE=DATE:20190224
DTSTAMP:20260420T133349
CREATED:20181128T214015Z
LAST-MODIFIED:20181227T190809Z
UID:76-1550275200-1550966399@incubatorworks.org
SUMMARY:National Entrepreneur Week
DESCRIPTION:https://www.natleshipweek.org/
URL:https://incubatorworks.org/event/national-entrepreneur-week/
END:VEVENT
BEGIN:VEVENT
DTSTART;VALUE=DATE:20190123
DTEND;VALUE=DATE:20190124
DTSTAMP:20260420T133349
CREATED:20181128T213937Z
LAST-MODIFIED:20190125T164018Z
UID:74-1548201600-1548287999@incubatorworks.org
SUMMARY:Entrepreneurial Networking
DESCRIPTION:description goes here
URL:https://incubatorworks.org/event/entrepreneurial-networking/
END:VEVENT
END:VCALENDAR